BEGIN:VCALENDAR
VERSION:2.0
PRODID:-//CERN//INDICO//EN
BEGIN:VEVENT
SUMMARY:TBD
DTSTART:20260429T193000Z
DTEND:20260429T213000Z
DTSTAMP:20260423T222200Z
UID:indico-event-10479@indico.slac.stanford.edu
DESCRIPTION:Speakers: Badal Bhalla\n\nhttps://indico.slac.stanford.edu/eve
 nt/10479/
LOCATION:48/2-224 - Madrone (SLAC)
URL:https://indico.slac.stanford.edu/event/10479/
END:VEVENT
END:VCALENDAR
