BEGIN:VCALENDAR
VERSION:2.0
PRODID:-//CERN//INDICO//EN
BEGIN:VEVENT
SUMMARY:Detecting uHz Gravitational Waves with Binary Resonances
DTSTART:20260306T203000Z
DTEND:20260306T223000Z
DTSTAMP:20260423T015500Z
UID:indico-event-10462@indico.slac.stanford.edu
DESCRIPTION:Speakers: Joshua Foster\n\nGravitational wave (GW) astronomy o
 ffers unrivalled discovery opportunities in the coming decades\, with the 
 potential to shed light on physics ranging from the formation and evolutio
 n of black holes to fundamental aspects of the early Universe. However\, a
  comprehensive examination of the GW frequency spectrum is hampered by pre
 sently limited prospects for GW detection at uHz frequencies. In this talk
 \, I describe how the resonant energy transfer between GWs and binary syst
 ems may produce observable perturbations to orbital dynamics\, paving the 
 way toward future searches for uHz GW  with lunar laser ranging and pulsa
 r timing array datasets.\n\nhttps://indico.slac.stanford.edu/event/10462/
LOCATION:48/2-224 - Madrone (SLAC)
URL:https://indico.slac.stanford.edu/event/10462/
END:VEVENT
END:VCALENDAR
