BEGIN:VCALENDAR
VERSION:2.0
PRODID:-//CERN//INDICO//EN
BEGIN:VEVENT
SUMMARY:PIONEER\, a next-generation rare pion decay experiment
DTSTART:20260421T193000Z
DTEND:20260421T203000Z
DTSTAMP:20260422T011600Z
UID:indico-event-10441@indico.slac.stanford.edu
DESCRIPTION:Speakers: Quentin Buat\n\nThe electron\, the first elementary 
 particle to be discovered\, holds a unique place in science as it plays a 
 key role in numerous physical phenomena from electricity to chemistry. Its
  heavier cousins\, the muon and tau are at first sight simple copies of th
 e electron: versions of the same particle in a different flavor\, governed
  by the same interaction rules. This fundamental principle of Flavor Unive
 rsality is a centerpiece of the Standard Model of Particle Physics. PIONEE
 R is a new experiment set to challenge this principle by studying the rare
 st decays of the charged pion. With this new apparatus\, we aim to improve
  the rare pion decay measurements up to 15-fold over the current ones and 
 probe the Standard Model at energy scales beyond the reach of colliders. O
 ur experiment design benefits from past-generation experiments and employs
  emergent technologies in tracking and calorimetry. In this talk\, I will 
 discuss the physics case of the experiment\, review its conceptual design 
 and present the ongoing R&D effort toward building the detector for the fi
 rst phase of the project.\n \n\n\n\n\n\n\n\nhttps://stanford.zoom.us/j/98
 973156241?pwd=cEU5RFdlVXoyc0JTeTlDMkozKzQ5UT09\n\n\n\n\n \n\n\n \n\n\n\n
 \n\n\n\n\n\n \n\n\n\nhttps://indico.slac.stanford.edu/event/10441/
LOCATION:48/2-224 - Madrone (SLAC)
URL:https://indico.slac.stanford.edu/event/10441/
END:VEVENT
END:VCALENDAR
