BEGIN:VCALENDAR
VERSION:2.0
PRODID:-//CERN//INDICO//EN
BEGIN:VEVENT
SUMMARY:SLAC+Penn AD Trigger Weekly
DTSTART:20260330T150000Z
DTEND:20260330T160000Z
DTSTAMP:20260420T162500Z
UID:indico-event-10372@indico.slac.stanford.edu
DESCRIPTION:https://cern.zoom.us/j/7249240691?pwd=NzFObGV2Wks1dTczQjk3cEcx
 UHI2UT09\n\nhttps://indico.slac.stanford.edu/event/10372/
URL:https://indico.slac.stanford.edu/event/10372/
END:VEVENT
END:VCALENDAR
