BEGIN:VCALENDAR
VERSION:2.0
PRODID:-//CERN//INDICO//EN
BEGIN:VEVENT
SUMMARY:SLAC MAGIS-100 Meeting
DTSTART:20260112T163000Z
DTEND:20260112T173000Z
DTSTAMP:20260423T073300Z
UID:indico-event-10360@indico.slac.stanford.edu
DESCRIPTION:Zoom meeting\nhttps://stanford.zoom.us/j/96719634497?pwd=WHRzd
 nRRY29CTXRIN2hRZHNBbjRRQT09\nPassword: 319682\n\nGroup Google Drive Link\n
 \nGithub code for DIS studies/characterization\n\n\nWeekly Safety/Coordina
 tion meetings\, Friday 1:30pm\nhttps://stanford.zoom.us/j/94907288516?pwd=
 WmdCZjJSQ0RDTGhxQUYzbTRiRXVKQT09\nPassword: 937502\n\nWeekly Safety Planni
 ng Google doc: https://docs.google.com/document/d/1jfImu1nqog_B-BL4jSSsWS
 ZZJfexsPfENRLIu6tjrRs/edit#heading=h.g0y512baojor\n\nWeekly schedule: htt
 ps://docs.google.com/spreadsheets/d/1GEo-9RMS8jB9jOPpppLY7HZsE43gXey0LAMit
 wvZLx0/edit#gid=2140641665\n\nNorm (ESH coordinator) phone number: 650-99
 6-0301\n\nMAGIS-100 web page\n\nhttps://indico.slac.stanford.edu/event/103
 60/
LOCATION:52/3-303 - Klamath River (SLAC)
URL:https://indico.slac.stanford.edu/event/10360/
END:VEVENT
END:VCALENDAR
