BEGIN:VCALENDAR
VERSION:2.0
PRODID:-//CERN//INDICO//EN
BEGIN:VEVENT
SUMMARY:XCC - weekly meeting
DTSTART:20260403T180000Z
DTEND:20260403T193500Z
DTSTAMP:20260424T091300Z
UID:indico-event-10275@indico.slac.stanford.edu
DESCRIPTION:Join Zoom Meeting\n\nhttps://indico.slac.stanford.edu/event/10
 275/
URL:https://indico.slac.stanford.edu/event/10275/
END:VEVENT
END:VCALENDAR
